BEGIN:VCALENDAR
VERSION:2.0
PRODID:-//KR Property/EPL//NONSGML v1.0//EN
METHOD:PUBLISH
BEGIN:VEVENT
DTSTART:20210227T100000
DTEND:20210227T110000
LOCATION:123 Rose Street WEE WAA, NSW 2388
URL:https://krproperty.com.au/property/123-rose-street-wee-waa-nsw-2388/
TRANSP:OPAQUE
SEQUENCE:0
UID:15681614224099
DTSTAMP:20210224T163459Z
SUMMARY:Home Open - AGELESS CHARM & CHARACTER WITH 6 BEDROOMS ON A DOUBLE BLOCK
DESCRIPTION:This is an excellent opportunity to purchase a 100-year-old property which is set on an expansive 2\,365sqm block.  This gracious home combines elegant comfort with the charm of yesteryear.\nPositioned in a sought-after neighborhood\, close to the CBD\, shops and schools.  This prominent residence offers a flowing single level layout\, providing multiple living domains.\n\nWhere to begin! \n•	Let us start outside with the shed / workshop which has roller door as well as swinging door street access and power.\n•	Additional to this is a double carport on a concrete slab which is accessed via roller doors.\n•	This picturesque and private yard comprise of a tennis court\, fire-pit area\, entertaining space\, cubby house for the kids\, additional land for a large shed with rear lane access.\n•	With a tiled\, leadlight entry this spacious home begins with a large open-plan dining\, kitchen and lounge room with polished floorboards and sliding doors which access the lush garden setting.\n•	The lounge area has a combustion wood fireplace\, evaporative air-conditioning throughout\, downlights\, an overhead fan and 10ft ceilings. \n•	The kitchen is a "My Kitchen Rules"\, delight.  Equipped with a wall oven\, electric stovetop with rangehood\, double sink\, dishwasher\, large island bench and plenty of storage space.\n•	The main bedroom is carpeted with an over-head fan\, walk-in robe and ensuite with a separate toilet.\n•	There are 5 additional bedrooms as well as a small office or storage room.\n•	Tiled bathroom with vanity\, shower\, bath and toilet.\n•	Laundry with storage and external access.\n•	Hallway storage\, utility room and an enclosed side verandah with foyer access and air-conditioning.\n\nThis property is the perfect family home with space and more space.
PRIORITY:1
CLASS:PUBLIC
BEGIN:VALARM
TRIGGER:-PT10080M
ACTION:DISPLAY
DESCRIPTION:Reminder
END:VALARM
END:VEVENT
END:VCALENDAR
